BEGIN:VCALENDAR
VERSION:2.0
PRODID:-//Arizona Humanities - ECPv6.15.20//NONSGML v1.0//EN
CALSCALE:GREGORIAN
METHOD:PUBLISH
X-WR-CALNAME:Arizona Humanities
X-ORIGINAL-URL:https://azhumanities.org
X-WR-CALDESC:Events for Arizona Humanities
REFRESH-INTERVAL;VALUE=DURATION:PT1H
X-Robots-Tag:noindex
X-PUBLISHED-TTL:PT1H
BEGIN:VTIMEZONE
TZID:America/Phoenix
BEGIN:STANDARD
TZOFFSETFROM:-0700
TZOFFSETTO:-0700
TZNAME:MST
DTSTART:20150101T000000
END:STANDARD
END:VTIMEZONE
BEGIN:VEVENT
DTSTART;TZID=America/Phoenix:20170318T100000
DTEND;TZID=America/Phoenix:20170318T120000
DTSTAMP:20260422T170243
CREATED:20161213T111814Z
LAST-MODIFIED:20161213T111814Z
UID:10062050-1489831200-1489838400@azhumanities.org
SUMMARY:Drop-In Discovery Saturday - Phoenix
DESCRIPTION:March 18 – Arizona Herb Association\nExplore samples of plants found on the museum grounds with the perspective of how they fit into the medicine chest\, sewing box\, and kitchen pantry of those who lived here before the Europeans arrived. Still common in the landscape or scattered in the surrounding desert\, plants that function aesthetically now were hugely important to those early settlers of the valley. Long before the Europeans brought new plants to the culture\, people living in the low desert made do with what they had and found it useful!  As visitors go on the trails they can recognize important plants as well as the dwellings and other remains.\n\nClick here to learn more through Pueblo Grande Museum. \nThis program is supported by a grant from Arizona Humanities.
URL:https://azhumanities.org/event/drop-in-discovery-saturday-phoenix-4/
CATEGORIES:Central Arizona,Families/Kids,Grant Recipient,Mini Grant
ATTACH;FMTTYPE=image/jpeg:https://azhumanities.org/wp-content/uploads/2016/12/DID2016-Banner-1.jpg
END:VEVENT
BEGIN:VEVENT
DTSTART;TZID=America/Phoenix:20170228T110000
DTEND;TZID=America/Phoenix:20170228T120000
DTSTAMP:20260422T170243
CREATED:20170206T103535Z
LAST-MODIFIED:20170206T103535Z
UID:10065178-1488279600-1488283200@azhumanities.org
SUMMARY:Mini Grants Webinar - Online
DESCRIPTION:Learn about Arizona Humanities Mini Grants – small grants of up to $2\,000 available on a rolling basis to support innovative public programs that increase understanding of the human experience. During the free webinar\, Arizona Humanities staff will share information about Mini Grants\, the online application process\, and answer any questions. \nClick here to register.
URL:https://azhumanities.org/event/mini-grants-webinar-online/
LOCATION:humanitiesawardsslider-1
CATEGORIES:Grants,Mini Grant
ATTACH;FMTTYPE=application/csv:https://azhumanities.org/wp-content/uploads/2024/06/Humanities-Scholar-Database-Updated-6-5-24-1.csv
END:VEVENT
BEGIN:VEVENT
DTSTART;TZID=America/Phoenix:20170220T190000
DTEND;TZID=America/Phoenix:20170220T210000
DTSTAMP:20260422T170243
CREATED:20170127T095922Z
LAST-MODIFIED:20170127T095922Z
UID:10062122-1487617200-1487624400@azhumanities.org
SUMMARY:*New Date* A World of Music with Todd Green - Coolidge
DESCRIPTION:A World of Music with Todd Green\ninfo@coolidgeperformingartscenter.org \nOn Monday\, February 20\, 2017 the Coolidge Performing Arts Center will host a free musical demonstration and lecture\, “A World of Music with Todd Green” featuring 25 acoustic\, indigenous string\, flute and percussion instruments from the Middle East\, Central Asia\, Far East and South America. The presentation relates the instruments historically\, geographically and culturally and shows how our own familiar western musical instruments were derived from these traditional ancient instruments through the ages. Mr. Green will also cover some of the religious and philosophical influences on Middle Eastern and Indian traditional music. After a brief intermission\, the program will be followed by a discussion moderated by local scholar\, Victoria Shaw\, where audience participation will be encouraged. Todd Green’s artistic mission is to “help break down the barriers that divide us by experiencing other cultures through their music.” \nThis program is supported by a grant from Arizona Humanities.
URL:https://azhumanities.org/event/a-world-of-music-with-todd-green-coolidge/
LOCATION:Coolidge Performing Arts Center\, 684 W. Northern Avenue\, Coolidge\, 85128\, United States
CATEGORIES:Central Arizona,Grant Recipient,Mini Grant
ATTACH;FMTTYPE=image/jpeg:https://azhumanities.org/wp-content/uploads/2016/11/coolidge-performing-arts-center-jpeg-1.jpg
GEO:32.9807075;-111.5280625
X-APPLE-STRUCTURED-LOCATION;VALUE=URI;X-ADDRESS=Coolidge Performing Arts Center 684 W. Northern Avenue Coolidge 85128 United States;X-APPLE-RADIUS=500;X-TITLE=684 W. Northern Avenue:geo:-111.5280625,32.9807075
END:VEVENT
BEGIN:VEVENT
DTSTART;TZID=America/Phoenix:20170218T080000
DTEND;TZID=America/Phoenix:20170218T170000
DTSTAMP:20260422T170243
CREATED:20161213T111639Z
LAST-MODIFIED:20161213T111639Z
UID:10062049-1487404800-1487437200@azhumanities.org
SUMMARY:Drop-In Discovery Saturday - Phoenix
DESCRIPTION:February 18 – August Wood\nJoin August Wood on the back patio for a drop-in informational program and demonstration about the process of making Pima baskets.\n\nEnjoy free\, fun\, educational programs on the back patio at Pueblo Grande Museum from local artists\, and organizations specializing in prehistoric cultural practices\, desert plants and animal conservation\, and environmental education. These Drop-In Discovery programs are available on the third Saturday of the month\, November through April from 10 a.m. to noon. Each program is presented as an informal opportunity for guests to watch demonstrations or learn more information about specific topics from experts in these fields. Stop by PGM for one or all of the upcoming six Drop-In Discoveries! These programs are included with Museum admission and were made possible by Arizona Humanities.\nClick here to learn more through Pueblo Grande Museum. \nThis program is supported by a grant from Arizona Humanities.
URL:https://azhumanities.org/event/drop-in-discovery-saturday-phoenix-3/
CATEGORIES:Central Arizona,Families/Kids,Grant Recipient,Mini Grant
ATTACH;FMTTYPE=image/jpeg:https://azhumanities.org/wp-content/uploads/2016/12/DID2016-Banner-1.jpg
END:VEVENT
BEGIN:VEVENT
DTSTART;TZID=America/Phoenix:20170121T100000
DTEND;TZID=America/Phoenix:20170121T120000
DTSTAMP:20260422T170243
CREATED:20161213T111445Z
LAST-MODIFIED:20161213T111445Z
UID:10062048-1484992800-1485000000@azhumanities.org
SUMMARY:Drop-In Discovery Saturday - Phoenix
DESCRIPTION:January 21 – Ron Carlos & Jacob Butler\nJoin Ron Carlos\, Maricopa Potter and Jacob Butler\, Onk Akimel O’Odham Artist\, on the back patio for a drop-in informational program and demonstration about the process of making pottery. Discover the many steps involved from clay sourcing\, processing raw clay\, forming\, painting\, and finally the firing process. Guest will also enjoy a demonstration of the paddle and anvil technique\, which is a style of pottery making indicative of many of the southern Arizona tribes.\n\nClick here to learn more through Pueblo Grande Museum.\n\nThis program is supported by a grant from Arizona Humanities.
URL:https://azhumanities.org/event/drop-in-discovery-saturday-phoenix-2/
CATEGORIES:Central Arizona,Grant Recipient,Mini Grant
ATTACH;FMTTYPE=image/jpeg:https://azhumanities.org/wp-content/uploads/2016/12/DID2016-Banner-1.jpg
END:VEVENT
BEGIN:VEVENT
DTSTART;TZID=America/Phoenix:20161217T100000
DTEND;TZID=America/Phoenix:20161217T120000
DTSTAMP:20260422T170243
CREATED:20161213T111242Z
LAST-MODIFIED:20161213T111242Z
UID:10062047-1481968800-1481976000@azhumanities.org
SUMMARY:Drop-In Discovery Saturday - Phoenix
DESCRIPTION:Join the Arizona Center for Nature Conservation\, part of the South Mountain Environmental Education Center\, on the back patio at PGM for an informal educational presentation on the plants\, animals\, history and conservation needs specific to the Sonoran Desert we call home. The City of Phoenix strongly supports environmental education and\, together with ACNC\, makes efforts toward instilling within visitors a sense of stewardship over the mountains and desert preserves. \nClick here to learn more. \nThis program is supported by a grant from Arizona Humanities.
URL:https://azhumanities.org/event/drop-in-discovery-saturday-phoenix/
CATEGORIES:Central Arizona,Grant Recipient,Mini Grant
ATTACH;FMTTYPE=image/jpeg:https://azhumanities.org/wp-content/uploads/2016/12/DID2016-Banner-1.jpg
END:VEVENT
BEGIN:VEVENT
DTSTART;TZID=America/Phoenix:20161203T130000
DTEND;TZID=America/Phoenix:20161203T210000
DTSTAMP:20260422T170243
CREATED:20161116T085125Z
LAST-MODIFIED:20161116T085125Z
UID:10062040-1480770000-1480798800@azhumanities.org
SUMMARY:Free Hip Hop and Poetry Event - Laveen
DESCRIPTION:Exciting FREE community hip hop and poetry event on Saturday\, December 3\, 2016 from 1 p.m. – 8 p.m. at the Chavez Library and Park located at 3635 W. Baseline Road\, Laveen Village\, AZ 85339. \nThe day will feature two poetry workshops\, a community arts cookout with local performing artists\, and will culminate with an evening performance by the editors of The BreakBeat Poets anthology. The free\, intergenerational poetry workshops will also be facilitated by the editors of The BreakBeat Poets. Both workshops will be held at the Cesar Chavez Library from 1 p.m. – 4p.m. Performances will be held at the newly-completed Chavez Ramada from 4:30 p.m – 8 p.m. \nFor more information\, please visit https://www.phoenix.gov/arts/BreakBeat. \nAbout The BreakBeat Poets\nThe BreakBeat Poets is a first-of-its-kind anthology of hip-hop poetica written for and by the people of Hip-Hop. It features 78 poets\, born between 1961 – 1999\, from many cities coast to coast\, who are creating the next and now movement(s) in American letters. The BreakBeat Poets is for people who love Hip-Hop\, for fans of the culture\, for people who have never read a poem\, for people who thought poems were only something done by people in the past\, and for long-time poetry fans. This anthology is meant to expand the idea of who a poet is and what a poem is for. \nThis program is supported in part by a grant from Arizona Humanities.
URL:https://azhumanities.org/event/free-hip-hop-and-poetry-event/
LOCATION:Chavez Park and Library\, 3635 W. Baseline Rd.\, Laveen Village\, AZ\, 85339\, United States
CATEGORIES:Central Arizona,Community Program,Grant Recipient,Mini Grant
ATTACH;FMTTYPE=image/jpeg:https://azhumanities.org/wp-content/uploads/2016/11/breakbeat-slider-400x265-1.jpg
GEO:33.3767277;-112.1386706
X-APPLE-STRUCTURED-LOCATION;VALUE=URI;X-ADDRESS=Chavez Park and Library 3635 W. Baseline Rd. Laveen Village AZ 85339 United States;X-APPLE-RADIUS=500;X-TITLE=3635 W. Baseline Rd.:geo:-112.1386706,33.3767277
END:VEVENT
END:VCALENDAR