BEGIN:VCALENDAR
VERSION:2.0
PRODID:-//Arizona Humanities - ECPv6.15.20//NONSGML v1.0//EN
CALSCALE:GREGORIAN
METHOD:PUBLISH
X-ORIGINAL-URL:https://azhumanities.org
X-WR-CALDESC:Events for Arizona Humanities
REFRESH-INTERVAL;VALUE=DURATION:PT1H
X-Robots-Tag:noindex
X-PUBLISHED-TTL:PT1H
BEGIN:VTIMEZONE
TZID:America/Phoenix
BEGIN:STANDARD
TZOFFSETFROM:-0700
TZOFFSETTO:-0700
TZNAME:MST
DTSTART:20170101T000000
END:STANDARD
END:VTIMEZONE
BEGIN:VEVENT
DTSTART;TZID=America/Phoenix:20181018T190000
DTEND;TZID=America/Phoenix:20181018T210000
DTSTAMP:20260420T082503
CREATED:20180906T111506Z
LAST-MODIFIED:20180906T111506Z
UID:10065790-1539889200-1539896400@azhumanities.org
SUMMARY:Author Colson Whitehead at the Tucson Humanities Festival - Tucson
DESCRIPTION:REVISITING THE UNDERGROUND RAILROAD\nWith Colson Whitehead\, Pulitzer Prize Winning Author \nThe University of Arizona – NORTH BALLROOM\, UA MEMORIAL STUDENT UNION \nThursday\, October 18 – 7:00 p.m. \n\n\n\nColson Whitehead has established himself as one of the most versatile and innovative writers in contemporary literature.\nRSVP through Eventbrite. \nShare on facebook. \n\nFrom the secret lives of elevators to international poker tournaments\, Whitehead takes on the marginal\, the strange\, and the surreal. His newest novel\, The Underground Railroad\, reimagines pre-Civil War America\, exploring an alternate reality in which the underground railroad is no mere metaphor\, but an actual subterranean train system delivering slaves to freedom. The novel was a #1 New York Times bestseller and won both the 2016 National Book Award and 2017 Pulitzer Prize for Fiction.This program is part of the “Democracy and the Informed Citizen” initiative\, administered by the Federation of State Humanities Councils. We thank The Andrew W. Mellon Foundation for their generous support of this initiative and the Pulitzer Prizes for their partnership. \nIn Partnership with Arizona Humanities and the University of Arizona College of Humanities
URL:https://azhumanities.org/event/colson-whitehead-at-the-tucson-humanities-festival/
LOCATION:University of Arizona\, Tucson\, AZ\, United States
CATEGORIES:Community Program,Southern Arizona,Special Events
ATTACH;FMTTYPE=image/jpeg:https://azhumanities.org/wp-content/uploads/2018/09/THE-UNDERGROUND-RAILROAD-1.jpg
GEO:32.2217429;-110.926479
END:VEVENT
END:VCALENDAR