BEGIN:VCALENDAR
VERSION:2.0
PRODID:-//Arizona Humanities - ECPv6.15.20//NONSGML v1.0//EN
CALSCALE:GREGORIAN
METHOD:PUBLISH
X-ORIGINAL-URL:https://azhumanities.org
X-WR-CALDESC:Events for Arizona Humanities
REFRESH-INTERVAL;VALUE=DURATION:PT1H
X-Robots-Tag:noindex
X-PUBLISHED-TTL:PT1H
BEGIN:VTIMEZONE
TZID:America/Phoenix
BEGIN:STANDARD
TZOFFSETFROM:-0700
TZOFFSETTO:-0700
TZNAME:MST
DTSTART:20160101T000000
END:STANDARD
END:VTIMEZONE
BEGIN:VEVENT
DTSTART;TZID=America/Phoenix:20170224T173000
DTEND;TZID=America/Phoenix:20170224T200000
DTSTAMP:20260421T084120
CREATED:20161223T093203Z
LAST-MODIFIED:20161223T093203Z
UID:10062063-1487957400-1487966400@azhumanities.org
SUMMARY:2017 Arizona Humanities Awards - Phoenix
DESCRIPTION:Join us for the 2017 Arizona Humanities Awards!\nFriday\, February 24\, 2017 \n5:30 – 8:00 p.m. \nNew City PHX (1300 N. Central Ave. Phoenix\, AZ 85004) \n \n \nClick here to purchase your tickets today. \n2017 Humanities Award Recipients \nNancy Liliana Godoy-Powell\, Humanities Rising Star Award \nJames Blasingame\, Dan Shilling Humanities Public Scholar Award \nBarbara Hatch\, Juliana Yoder Friend of the Humanities Award \nVisit the Humanities Awards page to learn more about each recipient. \nClick here for Sponsorship Information.
URL:https://azhumanities.org/event/2017-arizona-humanities-awards-phoenix/
LOCATION:Scottsboro-13
CATEGORIES:Central Arizona,Humanities Awards
ATTACH;FMTTYPE=image/png:https://azhumanities.org/wp-content/uploads/2016/12/awards-400x265-1.png
ORGANIZER;CN="Arizona Humanities - Missy Shackelford":MAILTO:mshackelford@azhumanities.org
END:VEVENT
END:VCALENDAR