BEGIN:VCALENDAR
VERSION:2.0
PRODID:-//Arizona Humanities - ECPv6.15.20//NONSGML v1.0//EN
CALSCALE:GREGORIAN
METHOD:PUBLISH
X-ORIGINAL-URL:https://azhumanities.org
X-WR-CALDESC:Events for Arizona Humanities
REFRESH-INTERVAL;VALUE=DURATION:PT1H
X-Robots-Tag:noindex
X-PUBLISHED-TTL:PT1H
BEGIN:VTIMEZONE
TZID:America/Phoenix
BEGIN:STANDARD
TZOFFSETFROM:-0700
TZOFFSETTO:-0700
TZNAME:MST
DTSTART:20160101T000000
END:STANDARD
END:VTIMEZONE
BEGIN:VEVENT
DTSTART;TZID=America/Phoenix:20170930T090000
DTEND;TZID=America/Phoenix:20170930T150000
DTSTAMP:20260419T123957
CREATED:20170831T084331Z
LAST-MODIFIED:20170831T084331Z
UID:10065364-1506762000-1506783600@azhumanities.org
SUMMARY:Seek the San Pedro - Sierra Vista
DESCRIPTION:Celebrate National Public Lands Day and the San Pedro Riparian National Conservation Area! Join us for a fun\, family-friendly day of outdoor learning for kids\, families and adults along the beautiful San Pedro River. \nActivities include nature walks\, exhibits\, wildlife demonstrations\, and the chance to learn more about water\, birds\, history and so much more! Nature walks will occur hourly in the morning\, and Ken Lamberton will also lead a writing workshop in the morning (registration is required for the writing workshop – see below). Against the lush backdrop of the San Pedro River\, there will also be reading and book-signings by well-known Arizona authors including Ken Lamberton\, Richard Shelton\, and Jan Cleere. \nParticipants may attend ongoing activities throughout the day\, and all events are free and open to the public. \nLearn more at: http://azwild.org/eNews/seeksanpedro.php \nThis program is supported by a grant from Arizona Humanities.
URL:https://azhumanities.org/event/seek-the-san-pedro-sierra-vista/
LOCATION:The San Pedro River at the San Pedro House\, 9800 E. Hwy. 90\, Sierra Vista\, AZ\, 85650\, United States
CATEGORIES:Grant Recipient,Mini Grant,Southern Arizona
ATTACH;FMTTYPE=image/jpeg:https://azhumanities.org/wp-content/uploads/2017/08/San_Pedro_River_Little_Boquillas_Ranch_Arizona_2015-1.jpg
GEO:31.5505262;-110.1426119
X-APPLE-STRUCTURED-LOCATION;VALUE=URI;X-ADDRESS=The San Pedro River at the San Pedro House 9800 E. Hwy. 90 Sierra Vista AZ 85650 United States;X-APPLE-RADIUS=500;X-TITLE=9800 E. Hwy. 90:geo:-110.1426119,31.5505262
END:VEVENT
END:VCALENDAR