BEGIN:VCALENDAR
VERSION:2.0
PRODID:-//Arizona Humanities - ECPv6.15.20//NONSGML v1.0//EN
CALSCALE:GREGORIAN
METHOD:PUBLISH
X-WR-CALNAME:Arizona Humanities
X-ORIGINAL-URL:https://azhumanities.org
X-WR-CALDESC:Events for Arizona Humanities
REFRESH-INTERVAL;VALUE=DURATION:PT1H
X-Robots-Tag:noindex
X-PUBLISHED-TTL:PT1H
BEGIN:VTIMEZONE
TZID:America/Phoenix
BEGIN:STANDARD
TZOFFSETFROM:-0700
TZOFFSETTO:-0700
TZNAME:MST
DTSTART:20160101T000000
END:STANDARD
END:VTIMEZONE
BEGIN:VEVENT
DTSTART;TZID=America/Phoenix:20170318T150000
DTEND;TZID=America/Phoenix:20170318T160000
DTSTAMP:20260419T141456
CREATED:20170228T155545Z
LAST-MODIFIED:20170228T155545Z
UID:10065210-1489849200-1489852800@azhumanities.org
SUMMARY:Arizona Ghost Towns - Superior
DESCRIPTION:Arizona Ghost Towns\nGhost towns dot Arizona’s landscape and provide unique insights into a diverse history. Some ghost towns tell a boom-to-bust story with few remaining traces of the people who once lived there\, while others\, like Jerome\, have become thriving tourist destinations. Many are old mining locations that once bustled with life\, while others tell more modern stories\, showing the impact of highways rerouted and roads not taken. This program will feature stories of ghost towns such as Crown King\, Jerome\, and Two Guns. \nMarshall Shore\, Arizona’s Hip Historian. His passion is uncovering the weird\, the wonderful\, and the obscure treasures from our past: the semi-forgotten people\, places\, and events that have made us who we are today. Shore uses storytelling magic\, found film footage\, old photographs\, ephemera\, and artifacts to bring our state’s heritage to life in entertaining and educational presentations. \n 
URL:https://azhumanities.org/event/arizona-ghost-towns-superior/
LOCATION:Superior Chamber of Commerce\, 165 W. Main Street\, Superior \, AZ\, 85137\, United States
CATEGORIES:AZ Speaks,Central Arizona
ATTACH;FMTTYPE=image/jpeg:https://azhumanities.org/wp-content/uploads/2014/07/slye-4-WEB-e1410804760820.jpg
GEO:33.2936502;-111.0970193
X-APPLE-STRUCTURED-LOCATION;VALUE=URI;X-ADDRESS=Superior Chamber of Commerce 165 W. Main Street Superior  AZ 85137 United States;X-APPLE-RADIUS=500;X-TITLE=165 W. Main Street:geo:-111.0970193,33.2936502
END:VEVENT
END:VCALENDAR