BEGIN:VCALENDAR
VERSION:2.0
PRODID:-//Arizona Humanities - ECPv6.15.20//NONSGML v1.0//EN
CALSCALE:GREGORIAN
METHOD:PUBLISH
X-ORIGINAL-URL:https://azhumanities.org
X-WR-CALDESC:Events for Arizona Humanities
REFRESH-INTERVAL;VALUE=DURATION:PT1H
X-Robots-Tag:noindex
X-PUBLISHED-TTL:PT1H
BEGIN:VTIMEZONE
TZID:America/Phoenix
BEGIN:STANDARD
TZOFFSETFROM:-0700
TZOFFSETTO:-0700
TZNAME:MST
DTSTART:20240101T000000
END:STANDARD
END:VTIMEZONE
BEGIN:VEVENT
DTSTART;TZID=America/Phoenix:20250412T120000
DTEND;TZID=America/Phoenix:20250412T133000
DTSTAMP:20260423T113839
CREATED:20250313T140813Z
LAST-MODIFIED:20250313T140813Z
UID:10066146-1744459200-1744464600@azhumanities.org
SUMMARY:"Borderland & Immigration: Perspectives and Policy Considerations" with TJ Davis
DESCRIPTION:PRESENTATION DESCRIPTION \nArizona’s position on the US southern border has placed it at ground zero in an ongoing immigration crisis that continues to incite often ugly arguments. The arguments are not new in character or content. The size and persistence of the surge at the border is new\, however. The US Border Patrol reported more than two million encounters along the US/Mexico border in fiscal 2023. The surge and the humanitarian crisis it has created\, along with an estimated 11 million unauthorized immigrants in the United States\, demand popular attention. This presentation briefly reviews the immigration crisis and its impact and invites reflection on how we\, the people\, in Arizona might best think about border and immigration policy. \nThis program is cohosted by the Tucson Desert Art Museum. \nABOUT THE SPEAKERS \nThomas J. Davis is an historian\, lawyer\, and professor emeritus at Arizona State University\, Tempe\, where he taught U.S. constitutional and legal history. Dr. Davis also taught as a visiting professor of law at the ASU College of Law. He received his PhD in U.S. history from Columbia University in the City of New York and his JD cum laude from the University at Buffalo School of Law in New York. He has been an AZ Humanities Public Scholar Nominee and served as Arizona’s State Scholar for the 2020-21 Voices and Votes: Democracy in America\, Museum on Main St. (MoMS)\, Smithsonian Institution\, traveling exhibition. AZ Humanities bestowed on Dr. Davis the 2021 Founder’s Community Partner Award\, recognizing his work “to further public humanities through sustained collaboration and exemplary community outreach.”
URL:https://azhumanities.org/event/borderland-immigration-perspectives-and-policy-considerations-with-tj-davis/
LOCATION:Tucson Desert Art Museum\, 7000 E Tanque Verde Rd\, Tucson\, Arizona\, 85715
END:VEVENT
END:VCALENDAR