BEGIN:VCALENDAR
VERSION:2.0
PRODID:-//Arizona Humanities - ECPv6.15.20//NONSGML v1.0//EN
CALSCALE:GREGORIAN
METHOD:PUBLISH
X-ORIGINAL-URL:https://azhumanities.org
X-WR-CALDESC:Events for Arizona Humanities
REFRESH-INTERVAL;VALUE=DURATION:PT1H
X-Robots-Tag:noindex
X-PUBLISHED-TTL:PT1H
BEGIN:VTIMEZONE
TZID:America/Phoenix
BEGIN:STANDARD
TZOFFSETFROM:-0700
TZOFFSETTO:-0700
TZNAME:MST
DTSTART:20160101T000000
END:STANDARD
END:VTIMEZONE
BEGIN:VEVENT
DTSTART;TZID=America/Phoenix:20200425T150000
DTEND;TZID=America/Phoenix:20200425T160000
DTSTAMP:20260424T100034
CREATED:20200224T095553Z
LAST-MODIFIED:20200224T095553Z
UID:10065939-1587826800-1587830400@azhumanities.org
SUMMARY:CANCELED - The Science of Music\, The Music of Science
DESCRIPTION:Why do so many physicists compare the universe to an orchestra? Why did Einstein use his violin playing to enhance his contemplation of the workings of the cosmos? The connection of music to science was illuminated early on when Pythagoras divided a string. Not surprisingly\, from astrophysicists to quantum theorists\, the common key to unlocking mysteries is math. And clearly\, the study of sound\, acoustics and the vibrational spectrum intricately entwine science and music through mathematical computations. Understanding music’s physiological effects on our brains and the body is the goal of a growing number of studies by neuroscientists. Learn about the correlations between these two overlapping worlds and why so many high professionals are musicians and musicians\, scientists. \nJanice Jarrett has extensive experience teaching in schools\, colleges\, community programs and as a speaker\, from numerous free lance talks\, to Arts Encounters (UA Presents)\, to the Arizona Humanities Council. Post Ph.D. she continued her scholarly interdisciplinary research including music and the brain\, science\, healing\, and in culture. She runs a private music studio and like many musicians\, she is a multi-professional: adding jazz singer\, lyricist\, arranger\, band leader and journalist. She earned her Ph.D. in Ethnomusicology\, a masters in World Music\, and a B.A. in voice and composition.
URL:https://azhumanities.org/event/the-science-of-music-the-music-of-science-3/
LOCATION:Agave Library\, 23550 N. 36th Ave.\, Phoenix\, AZ\, 85310\, United States
CATEGORIES:AZ Speaks
GEO:33.699417;-112.1398867
X-APPLE-STRUCTURED-LOCATION;VALUE=URI;X-ADDRESS=Agave Library 23550 N. 36th Ave. Phoenix AZ 85310 United States;X-APPLE-RADIUS=500;X-TITLE=23550 N. 36th Ave.:geo:-112.1398867,33.699417
END:VEVENT
BEGIN:VEVENT
DTSTART;TZID=America/Phoenix:20200418T150000
DTEND;TZID=America/Phoenix:20200418T160000
DTSTAMP:20260424T100034
CREATED:20200311T121750Z
LAST-MODIFIED:20200311T121750Z
UID:10065967-1587222000-1587225600@azhumanities.org
SUMMARY:CANCELED - Through My Eyes: The Impact of Implicit Bias
DESCRIPTION:We come from different places and backgrounds. Our life experiences and backgrounds can affect the way we see the world and each other\, for better or worse. What is implicit bias\, and how does it shape our attitudes and actions towards others? How do stereotypes affect our understanding\, actions\, and decisions? “Implicit bias” can cause us to have feelings and attitudes about other people based on characteristics such as race\, ethnicity\, age\, and appearance. How can we learn to navigate the world we see “through our eyes\,” and the world as seen through the eyes of people different from us? \nMatthew Whitaker is a decorated educator\, historian\, author\, social justice advocate\, motivational speaker\, and founder of the ASU Center for the Study of Race and Democracy\, where he taught for 16 years. Whitaker’s expertise lies in U.S. history\, African American history\, race relations\, social movements\, cultural competency\, equity and inclusion\, teaching excellence\, and community partnerships.  Whitaker has received numerous awards including the 2016 DLA Diversity and Inclusion Award\, ASU’s 2015 Pioneer Award for work on African American life and culture\, and 2014 DLA Inclusive Workplace Award. Whitaker has spoken throughout the U.S. and abroad\, and has been featured on CNN\, NPR\, PBS\, WVON\, and KEMET. His books include Hurricane Katrina: America’s Unnatural Disaster\, Race Work: The Rise of Civil Rights in the Urban West\, and his forthcoming memoir\, The Undisputed Truth: A Revolutionary Journey to Black Manhood.
URL:https://azhumanities.org/event/through-my-eyes-the-impact-of-implicit-bias-6/
LOCATION:Agave Library\, 23550 N. 36th Ave.\, Phoenix\, AZ\, 85310\, United States
CATEGORIES:FRANK Talks
GEO:33.699417;-112.1398867
X-APPLE-STRUCTURED-LOCATION;VALUE=URI;X-ADDRESS=Agave Library 23550 N. 36th Ave. Phoenix AZ 85310 United States;X-APPLE-RADIUS=500;X-TITLE=23550 N. 36th Ave.:geo:-112.1398867,33.699417
END:VEVENT
BEGIN:VEVENT
DTSTART;TZID=America/Phoenix:20200312T140000
DTEND;TZID=America/Phoenix:20200312T150000
DTSTAMP:20260424T100034
CREATED:20200224T093224Z
LAST-MODIFIED:20200224T093224Z
UID:10065937-1584021600-1584025200@azhumanities.org
SUMMARY:Free Speech: Can I Tell You How Much I Hate You?
DESCRIPTION:Freedom of speech is fundamental in a democratic society. It means that a person or a community can express their opinion or ideas without fear of retaliation or censorship. But what happens when the opinions expressed are unpopular\, violent or dangerous? Whether expressed in person\, or through social media\, words can have a powerful effect on our sense of safety\, inclusion or exclusion\, and equality or inequality. What is “hate speech?” Who decides what speech is protected\, and what is not? Who regulates social media content? What is the impact on individuals and communities who are silenced? Explore the complex history of first amendment freedoms of speech\, expression and assembly in America. \nGail Rhodes is a PhD student and an adjunct professor at the Cronkite School with more than 16 years of professional experience working as a television reporter. She worked for the Fox Sports Network in Chicago and helped to launch the Comcast Sports Network. Rhodes has been an adjunct professor for Cronkite since 2014\, where she teaches advanced television sports reporting\, and advanced topics in sports media. Her doctoral studies focus on the intersection of sports culture\, media and society.
URL:https://azhumanities.org/event/free-speech-can-i-tell-you-how-much-i-hate-you-4/
LOCATION:Agave Library\, 23550 N. 36th Ave.\, Phoenix\, AZ\, 85310\, United States
CATEGORIES:FRANK Talks
GEO:33.699417;-112.1398867
X-APPLE-STRUCTURED-LOCATION;VALUE=URI;X-ADDRESS=Agave Library 23550 N. 36th Ave. Phoenix AZ 85310 United States;X-APPLE-RADIUS=500;X-TITLE=23550 N. 36th Ave.:geo:-112.1398867,33.699417
END:VEVENT
BEGIN:VEVENT
DTSTART;TZID=America/Phoenix:20200222T150000
DTEND;TZID=America/Phoenix:20200222T160000
DTSTAMP:20260424T100034
CREATED:20200114T171800Z
LAST-MODIFIED:20200114T171800Z
UID:10065903-1582383600-1582387200@azhumanities.org
SUMMARY:Arizona’s Great Escape
DESCRIPTION:During the night of Christmas Eve in 1944\, twenty-five Nazi German prisoners of war escaped from Papago Park POW camp on the outskirts of Phoenix and headed towards Mexico. These men were hardcore Nazis\, ex U-boat commanders\, and submariners\, who had successfully dug a nearly 200-foot underground tunnel that took four months to complete. Many people may have heard of this event\, but few know the details. This presentation tells the story of what happened to these German POWs and the Arizona residents who encountered them. \nSteve Renzi\,a University of Arizona graduate with a degree in history\, believes that every generation must learn about who and what came before them or else the lessons learned are lost. As a writer and photographer with a teacher’s certificate in secondary education\, Renzi is always searching for new ways of exploring our history. He has been published in over 200 magazine and newspaper articles and is currently a writing and photography teacher\, as well as a basketball coach.
URL:https://azhumanities.org/event/arizonas-great-escape-4/
LOCATION:Agave Library\, 23550 N. 36th Ave.\, Phoenix\, AZ\, 85310\, United States
CATEGORIES:AZ Speaks
GEO:33.699417;-112.1398867
X-APPLE-STRUCTURED-LOCATION;VALUE=URI;X-ADDRESS=Agave Library 23550 N. 36th Ave. Phoenix AZ 85310 United States;X-APPLE-RADIUS=500;X-TITLE=23550 N. 36th Ave.:geo:-112.1398867,33.699417
END:VEVENT
BEGIN:VEVENT
DTSTART;TZID=America/Phoenix:20200111T150000
DTEND;TZID=America/Phoenix:20200111T160000
DTSTAMP:20260424T100034
CREATED:20191220T094002Z
LAST-MODIFIED:20250708T003353Z
UID:10065840-1578754800-1578758400@azhumanities.org
SUMMARY:The Shadow Catchers: 150 years of Arizona Photography
DESCRIPTION:For more than a century and a half some of the world’s best photographers focused their lenses on Arizona. In addition to the renowned Edward S. Curtis\, Kate Cory lived with the Hopi and represented them in photographs and on canvas\, while C. S. Fly gave us the famous Geronimo pictures. In the 20th century Josef Muench’s pictures brought the movies to Monument Valley\, Dorothea Lange captured Dust Bowl families\, Barry Goldwater depicted Navajo and Hopi culture\, and Ansel Adams glorified Arizona’s skies\, canyons\, and mesas. This presentation’s powerful images make the land and its people come alive. \nJim Turner worked with more than 70 museums across the state before retiring from the Arizona Historical Society. He co-authored the 4th-grade textbook The Arizona Story\, and his pictorial history\, Arizona: Celebration of the Grand Canyon State\, was a 2012 Southwest Books of the Year selection. Jim moved to Tucson in 1951\, earned a M.A. in U.S. history in 1999\, and has been presenting Arizona history for more than forty years. Jim is an author/editor for Rio Nuevo Publishers\, author of The Mighty Colorado from the Glaciers to the Gulf and Four Corners USA: Wonders of the American Southwest.
URL:https://azhumanities.org/event/the-shadow-catchers-150-years-of-arizona-photography-5/
LOCATION:Agave Library\, 23550 N. 36th Ave.\, Phoenix\, AZ\, 85310\, United States
CATEGORIES:AZ Speaks
GEO:33.699417;-112.1398867
X-APPLE-STRUCTURED-LOCATION;VALUE=URI;X-ADDRESS=Agave Library 23550 N. 36th Ave. Phoenix AZ 85310 United States;X-APPLE-RADIUS=500;X-TITLE=23550 N. 36th Ave.:geo:-112.1398867,33.699417
END:VEVENT
BEGIN:VEVENT
DTSTART;TZID=America/Phoenix:20180310T140000
DTEND;TZID=America/Phoenix:20180310T153000
DTSTAMP:20260424T100034
CREATED:20180208T165103Z
LAST-MODIFIED:20180208T165103Z
UID:10065558-1520690400-1520695800@azhumanities.org
SUMMARY:Wild\, Weird\, Wicked Arizona - Phoenix
DESCRIPTION:For a state that has been home to Geronimo\, Wyatt Earp\, César Chavez and Wonder Women\, you would think Arizona earned some respect. Yet achieving statehood was a 50-year struggle\, which finally ended on February 14\, 1912. Jana borrows from both her work for True West Magazine and her work for Phoenix Magazine to put the 48th state into perspective. She shares some of the secrets prissy folks would rather forget. You will learn why this small state has had an inordinate influence on American politics\, and why\, no matter what outrageous thing happens anywhere in the world\, there is bound to be an Arizona connection. This wicked\, weird and wild romp through Arizona’s colorful history will shock\, delight\, inform\, tickle and leave you wanting to learn more! \nJana Bommersbach is one of Arizona’s most honored and respected journalists.  She has won accolades in every facet of her career—investigative reporter\, magazine columnist\, television commentator and author of nationally acclaimed books. She currently writes for True West magazine\, digging up the true stories behind the popular myths\, with an emphasis on Arizona’s real history and women of the Old West. Her insight\, knowledge and wit produce exuberant\, riveting speeches that always garner rave reviews.
URL:https://azhumanities.org/event/wild-weird-wicked-arizona-phoenix/
LOCATION:Agave Library\, 23550 N. 36th Ave.\, Phoenix\, AZ\, 85310\, United States
CATEGORIES:AZ Speaks
ATTACH;FMTTYPE=image/jpeg:https://azhumanities.org/wp-content/uploads/2017/12/Bommersbach-Jana-400x265-1.jpg
GEO:33.699417;-112.1398867
X-APPLE-STRUCTURED-LOCATION;VALUE=URI;X-ADDRESS=Agave Library 23550 N. 36th Ave. Phoenix AZ 85310 United States;X-APPLE-RADIUS=500;X-TITLE=23550 N. 36th Ave.:geo:-112.1398867,33.699417
END:VEVENT
BEGIN:VEVENT
DTSTART;TZID=America/Phoenix:20180203T140000
DTEND;TZID=America/Phoenix:20180203T150000
DTSTAMP:20260424T100034
CREATED:20171208T125152Z
LAST-MODIFIED:20171208T125152Z
UID:10065449-1517666400-1517670000@azhumanities.org
SUMMARY:Hopi Quilting Traditions - Phoenix
DESCRIPTION:For centuries\, Hopi men grew cotton and wove the fibers into blankets and clothing. In the 1880s\, with the arrival of Anglo missionaries and government officials\, quilting was introduced to the Hopi people and it quickly became integrated into Hopi culture and ceremony with quilts being used in every Hopi household. Hopis today are 4th and 5th generation quiltmakers and as the atistic traditions of two cultures are blended\, it is not uncommon to see a quilt with a traditional Anglo pattern and an ancient Hopi image\, such as a kachina or a clan motif. This presentation includes a trunk show of Hopi quilts. \nCarolyn O’Bagy Davis\, a fourth-generation descendant of Utah pioneers\, is the author of 14 books on archaeology\, quilting and the history of the Southwest. Her book Hopi Summer was selected for OneBook Arizona for 2011 and Desert Trader was named one of the Best Books of the Southwest in 2012. She was founding president of the Tucson Quilters Guild and Old Pueblo Archaeology Center and is an inducted member of the Society of Women Geographers and the Arizona Quilters Hall of Fame. Davis has appeared on HGTV\, PBS\, and Lifetime television programs and has curated many traveling museum exhibits.
URL:https://azhumanities.org/event/hopi-quilting-traditions-phoenix/
LOCATION:Agave Library\, 23550 N. 36th Ave.\, Phoenix\, AZ\, 85310\, United States
CATEGORIES:AZ Speaks
ATTACH;FMTTYPE=image/jpeg:https://azhumanities.org/wp-content/uploads/2014/04/Carolyn-OBagy-Davis-400x230-1.jpg
GEO:33.699417;-112.1398867
X-APPLE-STRUCTURED-LOCATION;VALUE=URI;X-ADDRESS=Agave Library 23550 N. 36th Ave. Phoenix AZ 85310 United States;X-APPLE-RADIUS=500;X-TITLE=23550 N. 36th Ave.:geo:-112.1398867,33.699417
END:VEVENT
BEGIN:VEVENT
DTSTART;TZID=America/Phoenix:20171209T140000
DTEND;TZID=America/Phoenix:20171209T153000
DTSTAMP:20260424T100034
CREATED:20170922T124544Z
LAST-MODIFIED:20170922T124544Z
UID:10065376-1512828000-1512833400@azhumanities.org
SUMMARY:Arizona Kicks on Route 66 - Phoenix
DESCRIPTION:U.S. Route 66\, known as the “Mother Road\,” was built in 1926. It ran from Chicago to L. A. During the depression of the 1930s\, it became the major path by which people migrated west\, seeking work\, warm weather and new opportunities. Shore shares the history of Route 66 in Arizona\, including the impact it had on the state during its prime\, and what happened when the interstate ultimately bypassed some of the towns that drew life from the road. This multi-media presentation includes music\, video clips\, still photos\, and Shore’s storytelling magic. \nMarshall Shore\, Arizona’s Hip Historian. His passion is uncovering the weird\, the wonderful\, and the obscure treasures from our past: the semi-forgotten people\, places\, and events that have made us who we are today. Shore uses storytelling magic\, found film footage\, old photographs\, ephemera\, and artifacts to bring our state’s heritage to life in entertaining and educational presentations.
URL:https://azhumanities.org/event/arizona-kicks-on-route-66-13/
LOCATION:Agave Library\, 23550 N. 36th Ave.\, Phoenix\, AZ\, 85310\, United States
CATEGORIES:AZ Speaks
ATTACH;FMTTYPE=image/jpeg:https://azhumanities.org/wp-content/uploads/2014/07/slye-4-WEB-e1410804760820.jpg
GEO:33.699417;-112.1398867
X-APPLE-STRUCTURED-LOCATION;VALUE=URI;X-ADDRESS=Agave Library 23550 N. 36th Ave. Phoenix AZ 85310 United States;X-APPLE-RADIUS=500;X-TITLE=23550 N. 36th Ave.:geo:-112.1398867,33.699417
END:VEVENT
BEGIN:VEVENT
DTSTART;TZID=America/Phoenix:20170819T150000
DTEND;TZID=America/Phoenix:20170819T163000
DTSTAMP:20260424T100034
CREATED:20170606T155940Z
LAST-MODIFIED:20170606T155940Z
UID:10065299-1503154800-1503160200@azhumanities.org
SUMMARY:FRANK Talks: Energy in an Uncertain World - Phoenix
DESCRIPTION:Energy in an Uncertain World\nDr. Jennifer Richter\, Arizona State University\, School of Social Transformation and the School for the Future of Innovation in Society \nEnergy can be made affordable\, accessible\, and sustainable for all Arizonans.  Energy is never just about technology\, but about the values and ideals that a society has about its design and distribution.  But what will it take to achieve energy justice?  What are the values that are driving energy production and distribution in today’s world?   Join us for a FRANK Talk that looks at the state of Arizona to discuss the historical context of energy production\, the current webs of energy that exist in the state\, and some potential ideas\, policies\, programs\, and technologies that will shape the production of energy in the future.
URL:https://azhumanities.org/event/frank-talks-energy-in-an-uncertain-world-phoenix/
LOCATION:Agave Library\, 23550 N. 36th Ave.\, Phoenix\, AZ\, 85310\, United States
CATEGORIES:Central Arizona,FRANK Talks
ATTACH;FMTTYPE=:
GEO:33.699417;-112.1398867
X-APPLE-STRUCTURED-LOCATION;VALUE=URI;X-ADDRESS=Agave Library 23550 N. 36th Ave. Phoenix AZ 85310 United States;X-APPLE-RADIUS=500;X-TITLE=23550 N. 36th Ave.:geo:-112.1398867,33.699417
END:VEVENT
END:VCALENDAR