BEGIN:VCALENDAR
VERSION:2.0
PRODID:-//Arizona Humanities - ECPv6.15.20//NONSGML v1.0//EN
CALSCALE:GREGORIAN
METHOD:PUBLISH
X-WR-CALNAME:Arizona Humanities
X-ORIGINAL-URL:https://azhumanities.org
X-WR-CALDESC:Events for Arizona Humanities
REFRESH-INTERVAL;VALUE=DURATION:PT1H
X-Robots-Tag:noindex
X-PUBLISHED-TTL:PT1H
BEGIN:VTIMEZONE
TZID:America/Phoenix
BEGIN:STANDARD
TZOFFSETFROM:-0700
TZOFFSETTO:-0700
TZNAME:MST
DTSTART:20160101T000000
END:STANDARD
END:VTIMEZONE
BEGIN:VEVENT
DTSTART;TZID=America/Phoenix:20171019T120000
DTEND;TZID=America/Phoenix:20171019T133000
DTSTAMP:20260420T100513
CREATED:20170925T161558Z
LAST-MODIFIED:20170925T161558Z
UID:10065382-1508414400-1508419800@azhumanities.org
SUMMARY:Brownbag Discussion with Dr. David Stovall - Tempe
DESCRIPTION:Part of ASU Ethnic Studies Week\, supported by Arizona Humanities \nAre We Ready for “School” Abolition?: Thoughts and Practices of a Radical Imaginary in Education with Dr. David Stovall from the University of Illinois at Chicago \nThis brown bag discussion will engage a set of questions traditionally associated with the organized\, grassroots activist and scholarly resistance to abolish the prison industrial complex (PIC). “School” abolition seeks to eliminate the order\, compliance and dehumanization that happens in schools while allowing for the capacity to imagine and enact a radical imaginary.
URL:https://azhumanities.org/event/brownbag-discussion-with-dr-david-stovall-tempe/
LOCATION:ASU Tempe – West Hall 120\, Tempe\, AZ\, United States
CATEGORIES:Central Arizona,Community Partnership,Community Program,NEH Legacy of Race and Ethnicity
GEO:33.4255104;-111.9400054
END:VEVENT
END:VCALENDAR