BEGIN:VCALENDAR
VERSION:2.0
PRODID:-//Arizona Humanities - ECPv6.15.20//NONSGML v1.0//EN
CALSCALE:GREGORIAN
METHOD:PUBLISH
X-ORIGINAL-URL:https://azhumanities.org
X-WR-CALDESC:Events for Arizona Humanities
REFRESH-INTERVAL;VALUE=DURATION:PT1H
X-Robots-Tag:noindex
X-PUBLISHED-TTL:PT1H
BEGIN:VTIMEZONE
TZID:America/Phoenix
BEGIN:STANDARD
TZOFFSETFROM:-0700
TZOFFSETTO:-0700
TZNAME:MST
DTSTART:20160101T000000
END:STANDARD
END:VTIMEZONE
BEGIN:VEVENT
DTSTART;TZID=America/Phoenix:20170826T140000
DTEND;TZID=America/Phoenix:20170826T153000
DTSTAMP:20260422T104750
CREATED:20170606T155525Z
LAST-MODIFIED:20170606T155525Z
UID:10065297-1503756000-1503761400@azhumanities.org
SUMMARY:FRANK Talks: Modern Policing or a Police State - Phoenix
DESCRIPTION:Body Cameras\, Tasers and Guns: Modern Policing or a Police State? \nMichael Scott\, ASU Center for Problem-Oriented Policing\, School of Criminology & Criminal Justice \nThe methods and tools used by police officers today are not the same as in the past. In some cases the police are using military tools and tactics for law enforcement. Are the police really protecting the public\, or are they over-policing civilians? Is there a “war on police” that is chilling local law enforcement? Are public demands for independent investigations of police violence\, demilitarized police forces\, and an end to “for-profit” policing justified?  Join us for a FRANK Talk with local police.
URL:https://azhumanities.org/event/frank-talks-modern-policing-or-a-police-state-phoenix/
LOCATION:Cholla Branch Library\, 10050 N Metro Pkwy E\, Phoenix\, AZ\, 85051\, United States
CATEGORIES:Central Arizona,FRANK Talks
ATTACH;FMTTYPE=:
GEO:33.5781559;-112.1198054
X-APPLE-STRUCTURED-LOCATION;VALUE=URI;X-ADDRESS=Cholla Branch Library 10050 N Metro Pkwy E Phoenix AZ 85051 United States;X-APPLE-RADIUS=500;X-TITLE=10050 N Metro Pkwy E:geo:-112.1198054,33.5781559
END:VEVENT
END:VCALENDAR