BEGIN:VCALENDAR
VERSION:2.0
PRODID:-//Arizona Humanities - ECPv6.15.20//NONSGML v1.0//EN
CALSCALE:GREGORIAN
METHOD:PUBLISH
X-WR-CALNAME:Arizona Humanities
X-ORIGINAL-URL:https://azhumanities.org
X-WR-CALDESC:Events for Arizona Humanities
REFRESH-INTERVAL;VALUE=DURATION:PT1H
X-Robots-Tag:noindex
X-PUBLISHED-TTL:PT1H
BEGIN:VTIMEZONE
TZID:UTC
BEGIN:STANDARD
TZOFFSETFROM:+0000
TZOFFSETTO:+0000
TZNAME:UTC
DTSTART:20250101T000000
END:STANDARD
END:VTIMEZONE
BEGIN:VEVENT
DTSTART;TZID=UTC:20260204T183000
DTEND;TZID=UTC:20260204T200000
DTSTAMP:20260420T132143
CREATED:20251210T190144Z
LAST-MODIFIED:20251210T190144Z
UID:10066869-1770229800-1770235200@azhumanities.org
SUMMARY:(Mother) Road to the Stars: Rt 66 and its Space Heritage
DESCRIPTION:Route 66 is one of the most storied roadways in North America\, known for its roadside diners\, historic hotels and kitschy attractions. But it also boasts an extraordinary space heritage; along its course lies the birthplaces of space pioneers\, centers of space exploration and discovery\, training grounds for Moon-bound astronauts\, the best-preserved asteroid impact site in the world\, site of a famous UFO sighting\, and museums celebrating these cosmic connections. In honor of the upcoming centennial of Route 66\, Lowell Observatory Historian Kevin Schindler will lead a virtual trip along the Mother Road and explore this space heritage. \n  \nKevin Schindler is the historian at Lowell Observatory\, where he has worked for 28 years as an active member of the Flagstaff history and science communities. Schindler has given more than 1\,000 presentations and written more than 600 magazine and newspaper articles on subjects ranging from local history and astronomy to baseball and the Lincoln Memorial\, and contributes a bi-weekly astronomy column\, “View from Mars Hill”\, for the Arizona Daily Sun newspaper. Schindler has written nine books\, including Historic Tales of Flagstaff (written with Mike Kitt). Fun fact: Kevin has both a fossil crab and asteroid named after him.
URL:https://azhumanities.org/event/mother-road-to-the-stars-rt-66-and-its-space-heritage-7/
LOCATION:Mohave County Library Lake Havasu Branch\, 1770 McCulloch Blvd N.\, Lake Havasu City\, AZ\, 86403\, United States
CATEGORIES:AZ Speaks
GEO:34.4775371;-114.338758
X-APPLE-STRUCTURED-LOCATION;VALUE=URI;X-ADDRESS=Mohave County Library Lake Havasu Branch 1770 McCulloch Blvd N. Lake Havasu City AZ 86403 United States;X-APPLE-RADIUS=500;X-TITLE=1770 McCulloch Blvd N.:geo:-114.338758,34.4775371
END:VEVENT
END:VCALENDAR