BEGIN:VCALENDAR
VERSION:2.0
PRODID:-//Arizona Humanities - ECPv6.15.20//NONSGML v1.0//EN
CALSCALE:GREGORIAN
METHOD:PUBLISH
X-ORIGINAL-URL:https://azhumanities.org
X-WR-CALDESC:Events for Arizona Humanities
REFRESH-INTERVAL;VALUE=DURATION:PT1H
X-Robots-Tag:noindex
X-PUBLISHED-TTL:PT1H
BEGIN:VTIMEZONE
TZID:UTC
BEGIN:STANDARD
TZOFFSETFROM:+0000
TZOFFSETTO:+0000
TZNAME:UTC
DTSTART:20250101T000000
END:STANDARD
END:VTIMEZONE
BEGIN:VEVENT
DTSTART;TZID=UTC:20260131T133000
DTEND;TZID=UTC:20260131T150000
DTSTAMP:20260420T162406
CREATED:20260114T221441Z
LAST-MODIFIED:20260114T221441Z
UID:10066892-1769866200-1769871600@azhumanities.org
SUMMARY:(Mother) Road to the Stars: Rt 66 and its Space Heritage
DESCRIPTION:Route 66 is one of the most storied roadways in North America\, known for its roadside diners\, historic hotels and kitschy attractions. But it also boasts an extraordinary space heritage; along its course lies the birthplaces of space pioneers\, centers of space exploration and discovery\, training grounds for Moon-bound astronauts\, the best-preserved asteroid impact site in the world\, site of a famous UFO sighting\, and museums celebrating these cosmic connections. In honor of the upcoming centennial of Route 66\, Lowell Observatory Historian Kevin Schindler will lead a virtual trip along the Mother Road and explore this space heritage.
URL:https://azhumanities.org/event/mother-road-to-the-stars-rt-66-and-its-space-heritage-10/
LOCATION:Parker Area Historical Society\, 1214 S California Av\, Parker\, AZ\, 85344
CATEGORIES:AZ Speaks
END:VEVENT
END:VCALENDAR