BEGIN:VCALENDAR
VERSION:2.0
PRODID:-//Arizona Humanities - ECPv6.15.20//NONSGML v1.0//EN
CALSCALE:GREGORIAN
METHOD:PUBLISH
X-WR-CALNAME:Arizona Humanities
X-ORIGINAL-URL:https://azhumanities.org
X-WR-CALDESC:Events for Arizona Humanities
REFRESH-INTERVAL;VALUE=DURATION:PT1H
X-Robots-Tag:noindex
X-PUBLISHED-TTL:PT1H
BEGIN:VTIMEZONE
TZID:America/Phoenix
BEGIN:STANDARD
TZOFFSETFROM:-0700
TZOFFSETTO:-0700
TZNAME:MST
DTSTART:20170101T000000
END:STANDARD
END:VTIMEZONE
BEGIN:VEVENT
DTSTART;TZID=America/Phoenix:20180107T140000
DTEND;TZID=America/Phoenix:20180107T150000
DTSTAMP:20260422T090345
CREATED:20171214T151155Z
LAST-MODIFIED:20171214T151155Z
UID:10065491-1515333600-1515337200@azhumanities.org
SUMMARY:Where Biography Meets Historical Fiction: Sedona Schnebly - Sedona
DESCRIPTION:Since doing the first interview with one of Sedona’s daughters\, 35 years passed before the final page of this biography was written. This is the journal her great-granddaughter wishes she had found in the family archives. Hear passages from the manuscript and how family stories were handled; as well as the cultural and family research process that plays a part in crafting a historically accurate biography. \nDuring 35 years in newspaper\, magazine and broadcasting\, Lisa Schnebly Heidinger discovered that “journalism is history on the fly\,” and that the past informs the present.  She has honed the craft of sussing out and sharing stories in newspaper\, radio\, television\, magazines\, editorial columns and books. Lisa went into a drug tunnel\, had dinner with polygamist families\, walked through plane crash debris and interviewed death row inmates before taking on the truly risky pursuit of raising a family. She shares the red-setter gene with her father\, which means jumping into an open car door regardless of the destination.
URL:https://azhumanities.org/event/where-biography-meets-historical-fiction-sedona-schnebly-sedona/
LOCATION:Red Rock Visitor Center and Ranger Station\, 8375 State Route 179\, Sedona\, AZ\, Sedona\, AZ\, 86351\, United States
CATEGORIES:AZ Speaks
ATTACH;FMTTYPE=image/jpeg:https://azhumanities.org/wp-content/uploads/2017/12/Heidinger-Lisa-Schnebly-400x265-1.jpg
GEO:34.8484672;-111.7660187
X-APPLE-STRUCTURED-LOCATION;VALUE=URI;X-ADDRESS=Red Rock Visitor Center and Ranger Station 8375 State Route 179 Sedona AZ Sedona AZ 86351 United States;X-APPLE-RADIUS=500;X-TITLE=8375 State Route 179\, Sedona\, AZ:geo:-111.7660187,34.8484672
END:VEVENT
END:VCALENDAR