BEGIN:VCALENDAR
VERSION:2.0
PRODID:-//Arizona Humanities - ECPv6.15.20//NONSGML v1.0//EN
CALSCALE:GREGORIAN
METHOD:PUBLISH
X-ORIGINAL-URL:https://azhumanities.org
X-WR-CALDESC:Events for Arizona Humanities
REFRESH-INTERVAL;VALUE=DURATION:PT1H
X-Robots-Tag:noindex
X-PUBLISHED-TTL:PT1H
BEGIN:VTIMEZONE
TZID:America/Phoenix
BEGIN:STANDARD
TZOFFSETFROM:-0700
TZOFFSETTO:-0700
TZNAME:MST
DTSTART:20160101T000000
END:STANDARD
END:VTIMEZONE
BEGIN:VEVENT
DTSTART;TZID=America/Phoenix:20170911T163000
DTEND;TZID=America/Phoenix:20170911T180000
DTSTAMP:20260420T143445
CREATED:20170829T152901Z
LAST-MODIFIED:20170829T152901Z
UID:10065358-1505147400-1505152800@azhumanities.org
SUMMARY:FRANK Talks: Information Warfare as the New Battlespace - Casa Grande
DESCRIPTION:Weaponized Narrative: Information Warfare as the New Battlespace\nDr. Braden Allenby\, Arizona State University\, President’s Professor of Civil\, Environmental\, and Sustainable Engineering\, and Lincoln Professor of Engineering and Ethics \nWeaponized narrative is the latest term for information warfare\, focusing specifically on the role of new media in shaping opinion. Weaponized narratives attack the shared beliefs and values of a person or society\, and undercut culture and resiliency.  Instead of using actual bombs and bullets\, adversaries use tactics such as deceptive information initiatives to attack identity\, manipulate narratives/stories\, and manufacture emotional and psychological warfare.  What are the effects on our psychology and behavior?  How do we begin to understand the role of information warfare in social media\, news\, and marketing? Can weaponized narratives cause social polarization as destructive as actual war?  Join us for this timely FRANK Talk to discuss the impact of information warfare on civic engagement and our democratic institutions.
URL:https://azhumanities.org/event/frank-talks-information-warfare-as-the-new-battlespace-casa-grande/
LOCATION:Vista Grande Library\, 1556 N. Arizola Rd.\, Casa Grande\, 85122\, United States
CATEGORIES:Central Arizona,FRANK Talks
ATTACH;FMTTYPE=image/jpeg:https://azhumanities.org/wp-content/uploads/2016/07/FRANK-Talks-Vertical-400x265-1.jpg
GEO:32.8936693;-111.7128553
X-APPLE-STRUCTURED-LOCATION;VALUE=URI;X-ADDRESS=Vista Grande Library 1556 N. Arizola Rd. Casa Grande 85122 United States;X-APPLE-RADIUS=500;X-TITLE=1556 N. Arizola Rd.:geo:-111.7128553,32.8936693
END:VEVENT
BEGIN:VEVENT
DTSTART;TZID=America/Phoenix:20170330T153000
DTEND;TZID=America/Phoenix:20170330T170000
DTSTAMP:20260420T143445
CREATED:20170228T115804Z
LAST-MODIFIED:20170228T115804Z
UID:10065190-1490887800-1490893200@azhumanities.org
SUMMARY:Racial Literacy and Social Media Community Conversation - Casa Grande
DESCRIPTION:Dr. Kathy Nakagawa\, Arizona State University\, School of Social Transformation \nMany parents and educators avoid conversations about race and racism with their children and students\, yet young people are regularly exposed to images\, stories\, videos and statements that reflect racial societal attitudes. This exposure often comes through social media\, such as YouTube videos\, tweets\, Facebook posts and Tumblr blogs. Despite that exposure\, many young people are unprepared to discuss race and racism in productive ways\, and many parents and educators are unsure how to guide these discussions. So how do we develop a “racial literacy” to have these conversations? Like learning to read and write\, racial literacy equips us to talk about race and understand historical and systemic contexts of race and racism\, and it helps navigate the parallel dialogue occurring in media. Join us for a community conversation about racism\, racial literacy and social media.
URL:https://azhumanities.org/event/racial-literacy-and-social-media-community-conversation-casa-grande/
LOCATION:Vista Grande Library\, 1556 N. Arizola Rd.\, Casa Grande\, 85122\, United States
CATEGORIES:Central Arizona,Community Partnership,Community Program,NEH Legacy of Race and Ethnicity
ATTACH;FMTTYPE=image/jpeg:https://azhumanities.org/wp-content/uploads/2017/02/vistalibrary-1.jpg
GEO:32.8936693;-111.7128553
X-APPLE-STRUCTURED-LOCATION;VALUE=URI;X-ADDRESS=Vista Grande Library 1556 N. Arizola Rd. Casa Grande 85122 United States;X-APPLE-RADIUS=500;X-TITLE=1556 N. Arizola Rd.:geo:-111.7128553,32.8936693
END:VEVENT
END:VCALENDAR